BEGIN:VCALENDAR
VERSION:2.0
PRODID:-//KSC//Events//EN
METHOD:PUBLISH
BEGIN:VEVENT
SUMMARY:Make SPF Your BFF
DTSTART;VALUE=DATE-TIME:20260429T190029Z
DTEND;VALUE=DATE-TIME:20260429T210000Z
DTSTAMP;VALUE=DATE-TIME:20260421T114753Z
UID:https://keene.presence.io/event/make-spf-your-bff
DESCRIPTION:Join us for the final Wellness Wednesday this semester for Mak
 e SPF Your BFF. Enjoy free lemonade\, sunscreen\, and learn more about how
  to keep your skin safe this summer.\n\nLearn more at http://keene.presenc
 e.io/event/make-spf-your-bff
LOCATION:Mason Library
URL:http://www.keene.edu/news/events/detail/23362/
END:VEVENT
END:VCALENDAR
