BEGIN:VCALENDAR
VERSION:2.0
PRODID:-//KSC//Events//EN
METHOD:PUBLISH
BEGIN:VEVENT
SUMMARY:Wellness Wednesday with The Wellness Center
DTSTART;VALUE=DATE-TIME:20260422T190005Z
DTEND;VALUE=DATE-TIME:20260422T210000Z
DTSTAMP;VALUE=DATE-TIME:20260422T114752Z
UID:https://keene.presence.io/event/wellness-wednesday-with-the-wellness-c
 enter-2
DESCRIPTION:Join the Wellness Center for this week's Wellness Wednesday in
  the Mason Library from 3:00pm - 5:00pm\n\nLearn more at http://keene.pres
 ence.io/event/wellness-wednesday-with-the-wellness-center-2
LOCATION:Mason Library
URL:http://www.keene.edu/news/events/detail/23361/
END:VEVENT
END:VCALENDAR
