BEGIN:VCALENDAR
VERSION:2.0
PRODID:-//KSC//Events//EN
METHOD:PUBLISH
BEGIN:VEVENT
SUMMARY:Monadnock Therapy Pets
DTSTART;VALUE=DATE-TIME:20260423T150035Z
DTEND;VALUE=DATE-TIME:20260423T170000Z
DTSTAMP;VALUE=DATE-TIME:20260422T114752Z
UID:https://keene.presence.io/event/monadnock-therapy-pets-19
DESCRIPTION:Relax and take a break with Monadnock Therapy Pets!\n\nLearn m
 ore at http://keene.presence.io/event/monadnock-therapy-pets-19
LOCATION:West Dining Room- Student Center
URL:http://www.keene.edu/news/events/detail/23360/
END:VEVENT
END:VCALENDAR
