BEGIN:VCALENDAR
VERSION:2.0
PRODID:-//KSC//Events//EN
METHOD:PUBLISH
BEGIN:VEVENT
SUMMARY:Keene State College  Esports  TCNJ - Valorant (3rd Place)
DTSTART;VALUE=DATE-TIME:20260423T233000Z
DTEND;VALUE=DATE-TIME:20260424T023000Z
DTSTAMP;VALUE=DATE-TIME:20260422T114721Z
UID:vcal_14125-keeneowls.com
DESCRIPTION:Keene State College  Esports  TCNJ - Valorant (3rd Place)\nStr
 eaming Video: https://www.youtube.com/@keenestateowls1909/streams
LOCATION:Keene\, N.H.\, Living Learning Commons
URL:http://www.keene.edu/news/events/detail/23359/
END:VEVENT
END:VCALENDAR
