BEGIN:VCALENDAR
VERSION:2.0
PRODID:-//KSC//Events//EN
METHOD:PUBLISH
BEGIN:VEVENT
SUMMARY:Sex Toy Bingo
DTSTART;VALUE=DATE-TIME:20260421T230000Z
DTEND;VALUE=DATE-TIME:20260422T010000Z
DTSTAMP;VALUE=DATE-TIME:20260417T114751Z
UID:https://keene.presence.io/event/sex-toy-bingo-5
DESCRIPTION:This FemCo classic is returning once again! Join us for 10 rou
 nds of Sex Toy Bingo\, with the prizes getting spicier each round. Sexual 
 health and positivity are fun\, so bring a friend and make sure to grab so
 me protection from our friends at the Wellness Center who will be tabling 
 during the event!\n\nLearn more at http://keene.presence.io/event/sex-toy-
 bingo-5
LOCATION:Young Student Center\, Mabel Brown Room
URL:http://www.keene.edu/news/events/detail/23353/
END:VEVENT
END:VCALENDAR
