BEGIN:VCALENDAR
VERSION:2.0
PRODID:-//KSC//Events//EN
METHOD:PUBLISH
BEGIN:VEVENT
SUMMARY:Block Party
DTSTART;VALUE=DATE-TIME:20260424T190041Z
DTEND;VALUE=DATE-TIME:20260424T210000Z
DTSTAMP;VALUE=DATE-TIME:20260417T114751Z
UID:https://keene.presence.io/event/block-party-2
DESCRIPTION:SAC will be hosting our block party between the student center
  and the science center. There will be yard games\, music\, a dunk tank\, 
 and frozen snacks.\n\nLearn more at http://keene.presence.io/event/block-p
 arty-2
LOCATION:between the student and science center
URL:http://www.keene.edu/news/events/detail/23352/
END:VEVENT
END:VCALENDAR
