BEGIN:VCALENDAR
VERSION:2.0
PRODID:-//KSC//Events//EN
METHOD:PUBLISH
BEGIN:VEVENT
SUMMARY:Red Sox vs. Yankees SAC Trip
DTSTART;VALUE=DATE-TIME:20260422T180057Z
DTEND;VALUE=DATE-TIME:20260422T200000Z
DTSTAMP;VALUE=DATE-TIME:20260421T114753Z
UID:https://keene.presence.io/event/red-sox-vs-yankees-sac-trip
DESCRIPTION:SAC is taking 100 students to Fenway Park. All-inclusive coach
  bus transportation\, tickets\, and $40 voucher for concessions and mercha
 ndise.\n\nLearn more at http://keene.presence.io/event/red-sox-vs-yankees-
 sac-trip
LOCATION:Fenway Park
URL:http://www.keene.edu/news/events/detail/23351/
END:VEVENT
END:VCALENDAR
