BEGIN:VCALENDAR
VERSION:2.0
PRODID:-//KSC//Events//EN
METHOD:PUBLISH
BEGIN:VEVENT
SUMMARY:M4 Evening of Dance
DTSTART;VALUE=DATE-TIME:20270422T233000Z
DTEND;VALUE=DATE-TIME:20270423T013000Z
DTSTAMP;VALUE=DATE-TIME:20260423T114805Z
UID:5mcm3n0r8qn3kmc3gf18g2glqm@google.com
DESCRIPTION:
LOCATION:Redfern Arts Center
URL:http://www.keene.edu/news/events/detail/23156/
END:VEVENT
END:VCALENDAR
