BEGIN:VCALENDAR
VERSION:2.0
PRODID:-//KSC//Events//EN
METHOD:PUBLISH
BEGIN:VEVENT
SUMMARY:Brass Ensembles
DTSTART;VALUE=DATE-TIME:20270418T190000Z
DTEND;VALUE=DATE-TIME:20270418T210000Z
DTSTAMP;VALUE=DATE-TIME:20260423T114801Z
UID:6uvctupagenrfdfkso4gmk6hav@google.com
DESCRIPTION:
LOCATION:Redfern Arts Center
URL:http://www.keene.edu/news/events/detail/23154/
END:VEVENT
END:VCALENDAR
