BEGIN:VCALENDAR
VERSION:2.0
PRODID:-//KSC//Events//EN
METHOD:PUBLISH
BEGIN:VEVENT
SUMMARY:Faculty Recital OR Guest Artist Series: TBD
DTSTART;VALUE=DATE-TIME:20270411T190000Z
DTEND;VALUE=DATE-TIME:20270411T210000Z
DTSTAMP;VALUE=DATE-TIME:20260423T114801Z
UID:35lhdbr3ul8rnig3sca5un1end@google.com
DESCRIPTION:
LOCATION:Redfern Arts Center
URL:http://www.keene.edu/news/events/detail/23150/
END:VEVENT
END:VCALENDAR
