BEGIN:VCALENDAR
VERSION:2.0
PRODID:-//KSC//Events//EN
METHOD:PUBLISH
BEGIN:VEVENT
SUMMARY:Concert Band
DTSTART;VALUE=DATE-TIME:20270219T000000Z
DTEND;VALUE=DATE-TIME:20270219T020000Z
DTSTAMP;VALUE=DATE-TIME:20260423T114801Z
UID:2ml7ihhdf2l8eu5939cimr4l69@google.com
DESCRIPTION:
LOCATION:Redfern Arts Center
URL:http://www.keene.edu/news/events/detail/23144/
END:VEVENT
END:VCALENDAR
