BEGIN:VCALENDAR
VERSION:2.0
PRODID:-//KSC//Events//EN
METHOD:PUBLISH
BEGIN:VEVENT
SUMMARY:Jazz Combos & Guitar Orchestra
DTSTART;VALUE=DATE-TIME:20270326T230000Z
DTEND;VALUE=DATE-TIME:20270327T010000Z
DTSTAMP;VALUE=DATE-TIME:20260423T114801Z
UID:3ocee958rq3iq35j3rl2mpfs87@google.com
DESCRIPTION:
LOCATION:Redfern Arts Center
URL:http://www.keene.edu/news/events/detail/23137/
END:VEVENT
END:VCALENDAR
