BEGIN:VCALENDAR
VERSION:2.0
PRODID:-//KSC//Events//EN
METHOD:PUBLISH
BEGIN:VEVENT
SUMMARY:Faculty Recital OR Guest Artist Series: TBD
DTSTART;VALUE=DATE-TIME:20270206T200000Z
DTEND;VALUE=DATE-TIME:20270206T220000Z
DTSTAMP;VALUE=DATE-TIME:20260423T114801Z
UID:62tc10rnmnp5d018lje3qfb1ot@google.com
DESCRIPTION:
LOCATION:Redfern Arts Center
URL:http://www.keene.edu/news/events/detail/23133/
END:VEVENT
END:VCALENDAR
