BEGIN:VCALENDAR
VERSION:2.0
PRODID:-//KSC//Events//EN
METHOD:PUBLISH
BEGIN:VEVENT
SUMMARY:Choreography Showcase
DTSTART;VALUE=DATE-TIME:20261212T003000Z
DTEND;VALUE=DATE-TIME:20261212T023000Z
DTSTAMP;VALUE=DATE-TIME:20260421T114807Z
UID:78qhidt8p13dtg4f77g0o25h6s@google.com
DESCRIPTION:
LOCATION:Young Student Center
URL:http://www.keene.edu/news/events/detail/23131/
END:VEVENT
END:VCALENDAR
