BEGIN:VCALENDAR
VERSION:2.0
PRODID:-//KSC//Events//EN
METHOD:PUBLISH
BEGIN:VEVENT
SUMMARY:M1 Performance
DTSTART;VALUE=DATE-TIME:20261014T233000Z
DTEND;VALUE=DATE-TIME:20261015T013000Z
DTSTAMP;VALUE=DATE-TIME:20260421T114807Z
UID:67jnovu7jrusgumlbtpuer7893@google.com
DESCRIPTION:
LOCATION:Redfern Arts Center
URL:http://www.keene.edu/news/events/detail/23130/
END:VEVENT
END:VCALENDAR
