BEGIN:VCALENDAR
VERSION:2.0
PRODID:-//KSC//Events//EN
METHOD:PUBLISH
BEGIN:VEVENT
SUMMARY:M2 Performance - Matinee
DTSTART;VALUE=DATE-TIME:20261121T190000Z
DTEND;VALUE=DATE-TIME:20261121T210000Z
DTSTAMP;VALUE=DATE-TIME:20260421T114807Z
UID:3qs2ol8mtjivrorj2rf2la28pb@google.com
DESCRIPTION:
LOCATION:Redfern Arts Center
URL:http://www.keene.edu/news/events/detail/23129/
END:VEVENT
END:VCALENDAR
