BEGIN:VCALENDAR
VERSION:2.0
PRODID:-//KSC//Events//EN
METHOD:PUBLISH
BEGIN:VEVENT
SUMMARY:Choreography Showcase
DTSTART;VALUE=DATE-TIME:20261211T003000Z
DTEND;VALUE=DATE-TIME:20261211T023000Z
DTSTAMP;VALUE=DATE-TIME:20260421T114807Z
UID:132iaemp1tolsoj2v6ea9hgmf0@google.com
DESCRIPTION:
LOCATION:Young Student Center
URL:http://www.keene.edu/news/events/detail/23128/
END:VEVENT
END:VCALENDAR
