BEGIN:VCALENDAR
VERSION:2.0
PRODID:-//KSC//Events//EN
METHOD:PUBLISH
BEGIN:VEVENT
SUMMARY:M1 Performance
DTSTART;VALUE=DATE-TIME:20261016T233000Z
DTEND;VALUE=DATE-TIME:20261017T013000Z
DTSTAMP;VALUE=DATE-TIME:20260421T114807Z
UID:5nbepp44bvpjirto6p22s3498b@google.com
DESCRIPTION:
LOCATION:Redfern Arts Center
URL:http://www.keene.edu/news/events/detail/23127/
END:VEVENT
END:VCALENDAR
