BEGIN:VCALENDAR
VERSION:2.0
PRODID:-//KSC//Events//EN
METHOD:PUBLISH
BEGIN:VEVENT
SUMMARY:M1 Performance - Matinee
DTSTART;VALUE=DATE-TIME:20261017T180000Z
DTEND;VALUE=DATE-TIME:20261017T200000Z
DTSTAMP;VALUE=DATE-TIME:20260421T114807Z
UID:204khfu3iq6jmnqnf49bp1bc4h@google.com
DESCRIPTION:
LOCATION:Redfern Arts Center
URL:http://www.keene.edu/news/events/detail/23126/
END:VEVENT
END:VCALENDAR
