BEGIN:VCALENDAR
VERSION:2.0
PRODID:-//KSC//Events//EN
METHOD:PUBLISH
BEGIN:VEVENT
SUMMARY:M2 Performance
DTSTART;VALUE=DATE-TIME:20261120T003000Z
DTEND;VALUE=DATE-TIME:20261120T023000Z
DTSTAMP;VALUE=DATE-TIME:20260421T114807Z
UID:6g4ml8tt4e8hgjonks9ibjbsr0@google.com
DESCRIPTION:
LOCATION:Redfern Arts Center
URL:http://www.keene.edu/news/events/detail/23124/
END:VEVENT
END:VCALENDAR
