BEGIN:VCALENDAR
VERSION:2.0
PRODID:-//KSC//Events//EN
METHOD:PUBLISH
BEGIN:VEVENT
SUMMARY:M2 Performance
DTSTART;VALUE=DATE-TIME:20261122T003000Z
DTEND;VALUE=DATE-TIME:20261122T023000Z
DTSTAMP;VALUE=DATE-TIME:20260421T114807Z
UID:2743pscpng5k4d4r0ruhtr8jve@google.com
DESCRIPTION:
LOCATION:Redfern Arts Center
URL:http://www.keene.edu/news/events/detail/23123/
END:VEVENT
END:VCALENDAR
