BEGIN:VCALENDAR
VERSION:2.0
PRODID:-//KSC//Events//EN
METHOD:PUBLISH
BEGIN:VEVENT
SUMMARY:M1 Performance
DTSTART;VALUE=DATE-TIME:20261017T233000Z
DTEND;VALUE=DATE-TIME:20261018T013000Z
DTSTAMP;VALUE=DATE-TIME:20260421T114807Z
UID:5du7l9ak0595q74vmb7leb8172@google.com
DESCRIPTION:
LOCATION:Redfern Arts Center
URL:http://www.keene.edu/news/events/detail/23122/
END:VEVENT
END:VCALENDAR
