BEGIN:VCALENDAR
VERSION:2.0
PRODID:-//KSC//Events//EN
METHOD:PUBLISH
BEGIN:VEVENT
SUMMARY:M2 Performance
DTSTART;VALUE=DATE-TIME:20261119T003000Z
DTEND;VALUE=DATE-TIME:20261119T023000Z
DTSTAMP;VALUE=DATE-TIME:20260421T114807Z
UID:1rirqf7skemij59sr15h214j84@google.com
DESCRIPTION:
LOCATION:Redfern Arts Center
URL:http://www.keene.edu/news/events/detail/23121/
END:VEVENT
END:VCALENDAR
