BEGIN:VCALENDAR
VERSION:2.0
PRODID:-//KSC//Events//EN
METHOD:PUBLISH
BEGIN:VEVENT
SUMMARY:KSC Choirs with CONCORA & Orchestra
DTSTART;VALUE=DATE-TIME:20261004T190000Z
DTEND;VALUE=DATE-TIME:20261004T210000Z
DTSTAMP;VALUE=DATE-TIME:20260423T114801Z
UID:5d1pdtu8lrgvd1m71q29bjiqc8@google.com
DESCRIPTION:
LOCATION:Redfern Arts Center
URL:http://www.keene.edu/news/events/detail/23120/
END:VEVENT
END:VCALENDAR
