BEGIN:VCALENDAR
VERSION:2.0
PRODID:-//KSC//Events//EN
METHOD:PUBLISH
BEGIN:VEVENT
SUMMARY:Concert Choir and Chamber Singers
DTSTART;VALUE=DATE-TIME:20261206T000000Z
DTEND;VALUE=DATE-TIME:20261206T020000Z
DTSTAMP;VALUE=DATE-TIME:20260423T114801Z
UID:3v051vbo9qnllramnkim49ijm9@google.com
DESCRIPTION:
LOCATION:Redfern Arts Center
URL:http://www.keene.edu/news/events/detail/23119/
END:VEVENT
END:VCALENDAR
