BEGIN:VCALENDAR
VERSION:2.0
PRODID:-//KSC//Events//EN
METHOD:PUBLISH
BEGIN:VEVENT
SUMMARY:Faculty Recital OR Guest Artist Series: TBD
DTSTART;VALUE=DATE-TIME:20260923T230000Z
DTEND;VALUE=DATE-TIME:20260924T010000Z
DTSTAMP;VALUE=DATE-TIME:20260423T114801Z
UID:6m2f29bo3ho9euddbbp5hpu69f@google.com
DESCRIPTION:
LOCATION:Redfern Arts Center
URL:http://www.keene.edu/news/events/detail/23118/
END:VEVENT
END:VCALENDAR
