BEGIN:VCALENDAR
VERSION:2.0
PRODID:-//KSC//Events//EN
METHOD:PUBLISH
BEGIN:VEVENT
SUMMARY:Concert Band
DTSTART;VALUE=DATE-TIME:20261029T230000Z
DTEND;VALUE=DATE-TIME:20261030T010000Z
DTSTAMP;VALUE=DATE-TIME:20260423T114801Z
UID:5evgc69gdgks2c5rted7oqj23h@google.com
DESCRIPTION:
LOCATION:Redfern Arts Center
URL:http://www.keene.edu/news/events/detail/23117/
END:VEVENT
END:VCALENDAR
