BEGIN:VCALENDAR
VERSION:2.0
PRODID:-//KSC//Events//EN
METHOD:PUBLISH
BEGIN:VEVENT
SUMMARY:Faculty Recital OR Guest Artist Series: TBD
DTSTART;VALUE=DATE-TIME:20261105T000000Z
DTEND;VALUE=DATE-TIME:20261105T020000Z
DTSTAMP;VALUE=DATE-TIME:20260423T114801Z
UID:10ipggrc77bcsu9mc1oitmeonr@google.com
DESCRIPTION:
LOCATION:Redfern Arts Center
URL:http://www.keene.edu/news/events/detail/23116/
END:VEVENT
END:VCALENDAR
