BEGIN:VCALENDAR
VERSION:2.0
PRODID:-//KSC//Events//EN
METHOD:PUBLISH
BEGIN:VEVENT
SUMMARY:Flute\, Clarinet\, and Saxophone Ensembles
DTSTART;VALUE=DATE-TIME:20261123T000000Z
DTEND;VALUE=DATE-TIME:20261123T020000Z
DTSTAMP;VALUE=DATE-TIME:20260423T114801Z
UID:1t17lln4hm439bavqi2q1b9tap@google.com
DESCRIPTION:
LOCATION:Redfern Arts Center
URL:http://www.keene.edu/news/events/detail/23115/
END:VEVENT
END:VCALENDAR
