BEGIN:VCALENDAR
VERSION:2.0
PRODID:-//KSC//Events//EN
METHOD:PUBLISH
BEGIN:VEVENT
SUMMARY:Voice Studio Recital
DTSTART;VALUE=DATE-TIME:20261101T200000Z
DTEND;VALUE=DATE-TIME:20261101T220000Z
DTSTAMP;VALUE=DATE-TIME:20260423T114801Z
UID:2frpgfouqs19e6amq0mcj2lqnp@google.com
DESCRIPTION:
LOCATION:Redfern Arts Center
URL:http://www.keene.edu/news/events/detail/23114/
END:VEVENT
END:VCALENDAR
