BEGIN:VCALENDAR
VERSION:2.0
PRODID:-//KSC//Events//EN
METHOD:PUBLISH
BEGIN:VEVENT
SUMMARY:Percussion Ensemble
DTSTART;VALUE=DATE-TIME:20261118T000000Z
DTEND;VALUE=DATE-TIME:20261118T020000Z
DTSTAMP;VALUE=DATE-TIME:20260423T114801Z
UID:100eh8opaqb53m1r8eg4puhh5e@google.com
DESCRIPTION:
LOCATION:Redfern Arts Center
URL:http://www.keene.edu/news/events/detail/23113/
END:VEVENT
END:VCALENDAR
