BEGIN:VCALENDAR
VERSION:2.0
PRODID:-//KSC//Events//EN
METHOD:PUBLISH
BEGIN:VEVENT
SUMMARY:Orchestra with Concert Choir
DTSTART;VALUE=DATE-TIME:20261028T230000Z
DTEND;VALUE=DATE-TIME:20261029T010000Z
DTSTAMP;VALUE=DATE-TIME:20260423T114801Z
UID:27v02se217b024utk5irdd61dg@google.com
DESCRIPTION:
LOCATION:Redfern Arts Center
URL:http://www.keene.edu/news/events/detail/23112/
END:VEVENT
END:VCALENDAR
