BEGIN:VCALENDAR
VERSION:2.0
PRODID:-//KSC//Events//EN
METHOD:PUBLISH
BEGIN:VEVENT
SUMMARY:Faculty Recital Series: Voice Faculty
DTSTART;VALUE=DATE-TIME:20261018T190000Z
DTEND;VALUE=DATE-TIME:20261018T210000Z
DTSTAMP;VALUE=DATE-TIME:20260423T114801Z
UID:0aonifieqb3t83rnrkkhko55bv@google.com
DESCRIPTION:
LOCATION:Redfern Arts Center
URL:http://www.keene.edu/news/events/detail/23111/
END:VEVENT
END:VCALENDAR
