BEGIN:VCALENDAR
VERSION:2.0
PRODID:-//KSC//Events//EN
METHOD:PUBLISH
BEGIN:VEVENT
SUMMARY:Brass Ensemble
DTSTART;VALUE=DATE-TIME:20261122T200000Z
DTEND;VALUE=DATE-TIME:20261122T220000Z
DTSTAMP;VALUE=DATE-TIME:20260423T114801Z
UID:52sk7s6jkshennltqisfvinrpn@google.com
DESCRIPTION:
LOCATION:Redfern Arts Center
URL:http://www.keene.edu/news/events/detail/23110/
END:VEVENT
END:VCALENDAR
