BEGIN:VCALENDAR
VERSION:2.0
PRODID:-//KSC//Events//EN
METHOD:PUBLISH
BEGIN:VEVENT
SUMMARY:Student Composers and Video Game Ensemble
DTSTART;VALUE=DATE-TIME:20261205T200000Z
DTEND;VALUE=DATE-TIME:20261205T220000Z
DTSTAMP;VALUE=DATE-TIME:20260423T114801Z
UID:3fdeg7dg0n6t0sdq0u7jl25usf@google.com
DESCRIPTION:
LOCATION:Redfern Arts Center
URL:http://www.keene.edu/news/events/detail/23109/
END:VEVENT
END:VCALENDAR
