BEGIN:VCALENDAR
VERSION:2.0
PRODID:-//KSC//Events//EN
METHOD:PUBLISH
BEGIN:VEVENT
SUMMARY:Jazz Ensemble
DTSTART;VALUE=DATE-TIME:20261210T000000Z
DTEND;VALUE=DATE-TIME:20261210T020000Z
DTSTAMP;VALUE=DATE-TIME:20260423T114801Z
UID:0ac003kjsrgj26dua52kdnjrmc@google.com
DESCRIPTION:
LOCATION:Redfern Arts Center
URL:http://www.keene.edu/news/events/detail/23108/
END:VEVENT
END:VCALENDAR
