BEGIN:VCALENDAR
VERSION:2.0
PRODID:-//KSC//Events//EN
METHOD:PUBLISH
BEGIN:VEVENT
SUMMARY:Guitar Orchestra and Vocal Consort
DTSTART;VALUE=DATE-TIME:20261207T000000Z
DTEND;VALUE=DATE-TIME:20261207T020000Z
DTSTAMP;VALUE=DATE-TIME:20260423T114801Z
UID:53hsrlfubsc3359c6lkl6580an@google.com
DESCRIPTION:
LOCATION:Redfern Arts Center
URL:http://www.keene.edu/news/events/detail/23107/
END:VEVENT
END:VCALENDAR
