BEGIN:VCALENDAR
VERSION:2.0
PRODID:-//KSC//Events//EN
METHOD:PUBLISH
BEGIN:VEVENT
SUMMARY:Jazz Combos
DTSTART;VALUE=DATE-TIME:20261030T230000Z
DTEND;VALUE=DATE-TIME:20261031T010000Z
DTSTAMP;VALUE=DATE-TIME:20260423T114801Z
UID:64ugub9rk2kov8r2aj4987q759@google.com
DESCRIPTION:
LOCATION:Redfern Arts Center
URL:http://www.keene.edu/news/events/detail/23105/
END:VEVENT
END:VCALENDAR
