BEGIN:VCALENDAR
VERSION:2.0
PRODID:-//KSC//Events//EN
METHOD:PUBLISH
BEGIN:VEVENT
SUMMARY:Keene State College  Softball at Westfield State - Rescheduled fro
 m April 9
DTSTART;VALUE=DATE-TIME:20260426T160000Z
DTEND;VALUE=DATE-TIME:20260426T180000Z
DTSTAMP;VALUE=DATE-TIME:20260420T114720Z
UID:vcal_13846-keeneowls.com
DESCRIPTION:Keene State College  Softball at Westfield State - Rescheduled
  from April 9
LOCATION:Westfield\, Mass. / Sullivan Field
URL:http://www.keene.edu/news/events/detail/21777/
END:VEVENT
END:VCALENDAR
